Package: GladiaTOX Version: 1.23.0 Command: /home/biocbuild/bbs-3.21-bioc/R/bin/R CMD build --keep-empty-dirs --no-resave-data GladiaTOX StartedAt: 2025-02-19 17:26:34 -0500 (Wed, 19 Feb 2025) EndedAt: 2025-02-19 17:30:00 -0500 (Wed, 19 Feb 2025) EllapsedTime: 206.2 seconds RetCode: 0 Status: OK PackageFile: GladiaTOX_1.23.0.tar.gz PackageFileSize: 3.959 MiB