Package: GladiaTOX Version: 1.23.0 Command: /Library/Frameworks/R.framework/Resources/bin/R CMD build --keep-empty-dirs --no-resave-data GladiaTOX StartedAt: 2025-02-19 16:29:36 -0500 (Wed, 19 Feb 2025) EndedAt: 2025-02-19 16:31:04 -0500 (Wed, 19 Feb 2025) EllapsedTime: 87.9 seconds RetCode: 0 Status: OK PackageFile: GladiaTOX_1.23.0.tar.gz PackageFileSize: 3.949 MiB