Package: GeomxTools Version: 3.11.0 Command: /Library/Frameworks/R.framework/Resources/bin/R CMD INSTALL GeomxTools StartedAt: 2025-02-20 15:15:36 -0500 (Thu, 20 Feb 2025) EndedAt: 2025-02-20 15:15:47 -0500 (Thu, 20 Feb 2025) EllapsedTime: 10.9 seconds RetCode: 0 Status: OK