Package: GeomxTools Version: 3.11.0 Command: /Library/Frameworks/R.framework/Resources/bin/R CMD check --install=check:GeomxTools.install-out.txt --library=/Library/Frameworks/R.framework/Resources/library --no-vignettes --timings GeomxTools_3.11.0.tar.gz StartedAt: 2025-02-20 19:29:03 -0500 (Thu, 20 Feb 2025) EndedAt: 2025-02-20 19:35:16 -0500 (Thu, 20 Feb 2025) EllapsedTime: 372.5 seconds RetCode: 1 Status: ERROR CheckDir: GeomxTools.Rcheck Warnings: NA