Package: GeomxTools Version: 3.11.0 Command: /Library/Frameworks/R.framework/Resources/bin/R CMD build --keep-empty-dirs --no-resave-data GeomxTools StartedAt: 2025-02-20 16:27:38 -0500 (Thu, 20 Feb 2025) EndedAt: 2025-02-20 16:29:54 -0500 (Thu, 20 Feb 2025) EllapsedTime: 136.4 seconds RetCode: 0 Status: OK PackageFile: GeomxTools_3.11.0.tar.gz PackageFileSize: 16.99 MiB