Package: GeomxTools Version: 3.11.0 Command: rm -rf GeomxTools.buildbin-libdir && mkdir GeomxTools.buildbin-libdir && /Users/biocbuild/BBS/utils/build-universal.sh GeomxTools_3.11.0.tar.gz /Library/Frameworks/R.framework/Resources/bin/R GeomxTools.buildbin-libdir StartedAt: 2025-02-20 22:20:29 -0500 (Thu, 20 Feb 2025) EndedAt: 2025-02-20 22:20:42 -0500 (Thu, 20 Feb 2025) EllapsedTime: 13.3 seconds RetCode: 0 Status: OK PackageFile: GeomxTools_3.11.0.tgz PackageFileSize: 15.74 MiB