Package: GeomxTools Version: 3.12.1 Command: /Library/Frameworks/R.framework/Resources/bin/R CMD build --keep-empty-dirs --no-resave-data GeomxTools StartedAt: 2025-10-14 01:07:22 -0400 (Tue, 14 Oct 2025) EndedAt: 2025-10-14 01:14:37 -0400 (Tue, 14 Oct 2025) EllapsedTime: 434.9 seconds RetCode: 0 Status: OK PackageFile: GeomxTools_3.12.1.tar.gz PackageFileSize: 17.04 MiB