Package: GeoTcgaData Version: 2.7.0 Command: E:\biocbuild\bbs-3.21-bioc\R\bin\R.exe CMD INSTALL GeoTcgaData StartedAt: 2025-02-17 16:09:06 -0500 (Mon, 17 Feb 2025) EndedAt: 2025-02-17 16:10:05 -0500 (Mon, 17 Feb 2025) EllapsedTime: 58.8 seconds RetCode: 0 Status: OK