Package: GeoTcgaData Version: 2.7.0 Command: /Library/Frameworks/R.framework/Resources/bin/R CMD INSTALL GeoTcgaData StartedAt: 2025-02-17 15:32:41 -0500 (Mon, 17 Feb 2025) EndedAt: 2025-02-17 15:33:32 -0500 (Mon, 17 Feb 2025) EllapsedTime: 50.7 seconds RetCode: 0 Status: OK