Package: GeoTcgaData Version: 2.7.0 Command: /Library/Frameworks/R.framework/Resources/bin/R CMD check --install=check:GeoTcgaData.install-out.txt --library=/Library/Frameworks/R.framework/Resources/library --no-vignettes --timings GeoTcgaData_2.7.0.tar.gz StartedAt: 2025-02-17 20:39:11 -0500 (Mon, 17 Feb 2025) EndedAt: 2025-02-17 20:43:11 -0500 (Mon, 17 Feb 2025) EllapsedTime: 239.5 seconds RetCode: 0 Status: OK CheckDir: GeoTcgaData.Rcheck Warnings: 0