Package: GeoTcgaData Version: 2.7.0 Command: /Library/Frameworks/R.framework/Resources/bin/R CMD build --keep-empty-dirs --no-resave-data GeoTcgaData StartedAt: 2025-02-17 16:48:30 -0500 (Mon, 17 Feb 2025) EndedAt: 2025-02-17 16:49:47 -0500 (Mon, 17 Feb 2025) EllapsedTime: 76.7 seconds RetCode: 0 Status: OK PackageFile: GeoTcgaData_2.7.0.tar.gz PackageFileSize: 3.318 MiB