Package: GeoTcgaData Version: 2.7.0 Command: rm -rf GeoTcgaData.buildbin-libdir && mkdir GeoTcgaData.buildbin-libdir && /Users/biocbuild/BBS/utils/build-universal.sh GeoTcgaData_2.7.0.tar.gz /Library/Frameworks/R.framework/Resources/bin/R GeoTcgaData.buildbin-libdir StartedAt: 2025-02-18 00:27:00 -0500 (Tue, 18 Feb 2025) EndedAt: 2025-02-18 00:27:54 -0500 (Tue, 18 Feb 2025) EllapsedTime: 54.3 seconds RetCode: 0 Status: OK PackageFile: GeoTcgaData_2.7.0.tgz PackageFileSize: 3.412 MiB