Package: GeoTcgaData Version: 2.7.0 Command: /Library/Frameworks/R.framework/Resources/bin/R CMD build --keep-empty-dirs --no-resave-data GeoTcgaData StartedAt: 2025-02-19 16:28:01 -0500 (Wed, 19 Feb 2025) EndedAt: 2025-02-19 16:28:35 -0500 (Wed, 19 Feb 2025) EllapsedTime: 33.3 seconds RetCode: 0 Status: OK PackageFile: GeoTcgaData_2.7.0.tar.gz PackageFileSize: 3.318 MiB