Package: GeoDiff Version: 1.13.0 Command: /home/biocbuild/bbs-3.21-bioc/R/bin/R CMD INSTALL GeoDiff StartedAt: 2025-02-20 15:25:30 -0500 (Thu, 20 Feb 2025) EndedAt: 2025-02-20 15:26:53 -0500 (Thu, 20 Feb 2025) EllapsedTime: 82.6 seconds RetCode: 0 Status: OK