Package: GeoDiff Version: 1.14.0 Command: rm -rf GeoDiff.buildbin-libdir && mkdir GeoDiff.buildbin-libdir && /Users/biocbuild/BBS/utils/build-universal.sh GeoDiff_1.14.0.tar.gz /Library/Frameworks/R.framework/Resources/bin/R GeoDiff.buildbin-libdir StartedAt: 2025-10-14 13:34:19 -0400 (Tue, 14 Oct 2025) EndedAt: 2025-10-14 13:38:53 -0400 (Tue, 14 Oct 2025) EllapsedTime: 273.6 seconds RetCode: 0 Status: OK PackageFile: GeoDiff_1.14.0.tgz PackageFileSize: 4.834 MiB