Package: GenomicTuples Version: 1.41.1 Command: /home/biocbuild/bbs-3.21-bioc/R/bin/R CMD check --install=check:GenomicTuples.install-out.txt --library=/home/biocbuild/bbs-3.21-bioc/R/site-library --timings GenomicTuples_1.41.1.tar.gz StartedAt: 2025-02-19 22:35:36 -0500 (Wed, 19 Feb 2025) EndedAt: 2025-02-19 22:37:34 -0500 (Wed, 19 Feb 2025) EllapsedTime: 118.1 seconds RetCode: 0 Status: OK CheckDir: GenomicTuples.Rcheck Warnings: 0