Package: GenomicTuples Version: 1.41.1 Command: /Library/Frameworks/R.framework/Resources/bin/R CMD INSTALL GenomicTuples StartedAt: 2025-02-19 15:08:50 -0500 (Wed, 19 Feb 2025) EndedAt: 2025-02-19 15:09:27 -0500 (Wed, 19 Feb 2025) EllapsedTime: 37.2 seconds RetCode: 0 Status: OK