Package: GenomicTuples Version: 1.41.1 Command: rm -rf GenomicTuples.buildbin-libdir && mkdir GenomicTuples.buildbin-libdir && /Users/biocbuild/BBS/utils/build-universal.sh GenomicTuples_1.41.1.tar.gz /Library/Frameworks/R.framework/Resources/bin/R GenomicTuples.buildbin-libdir StartedAt: 2025-02-20 00:33:57 -0500 (Thu, 20 Feb 2025) EndedAt: 2025-02-20 00:34:38 -0500 (Thu, 20 Feb 2025) EllapsedTime: 40.2 seconds RetCode: 0 Status: OK PackageFile: GenomicTuples_1.41.1.tgz PackageFileSize: 903.3 KiB