Package: GenomicSuperSignature Version: 1.15.0 Command: chmod a+r GenomicSuperSignature -R && E:\biocbuild\bbs-3.21-bioc\R\bin\R.exe CMD build --keep-empty-dirs --no-resave-data GenomicSuperSignature StartedAt: 2025-02-20 18:59:06 -0500 (Thu, 20 Feb 2025) EndedAt: 2025-02-20 19:01:35 -0500 (Thu, 20 Feb 2025) EllapsedTime: 149.4 seconds RetCode: 0 Status: OK PackageFile: GenomicSuperSignature_1.15.0.tar.gz PackageFileSize: 5.967 MiB