Package: GenomicSuperSignature Version: 1.15.0 Command: /home/biocbuild/bbs-3.21-bioc/R/bin/R CMD check --install=check:GenomicSuperSignature.install-out.txt --library=/home/biocbuild/bbs-3.21-bioc/R/site-library --timings GenomicSuperSignature_1.15.0.tar.gz StartedAt: 2025-02-19 22:35:01 -0500 (Wed, 19 Feb 2025) EndedAt: 2025-02-19 22:40:45 -0500 (Wed, 19 Feb 2025) EllapsedTime: 344.4 seconds RetCode: 0 Status: WARNINGS CheckDir: GenomicSuperSignature.Rcheck Warnings: 2