Package: GenomicSuperSignature Version: 1.15.0 Command: /home/biocbuild/bbs-3.21-bioc/R/bin/R CMD build --keep-empty-dirs --no-resave-data GenomicSuperSignature StartedAt: 2025-02-19 17:23:37 -0500 (Wed, 19 Feb 2025) EndedAt: 2025-02-19 17:25:52 -0500 (Wed, 19 Feb 2025) EllapsedTime: 135.2 seconds RetCode: 0 Status: OK PackageFile: GenomicSuperSignature_1.15.0.tar.gz PackageFileSize: 6.294 MiB