Package: GenomicSuperSignature Version: 1.15.0 Command: /Library/Frameworks/R.framework/Resources/bin/R CMD INSTALL GenomicSuperSignature StartedAt: 2025-02-19 15:42:11 -0500 (Wed, 19 Feb 2025) EndedAt: 2025-02-19 15:42:52 -0500 (Wed, 19 Feb 2025) EllapsedTime: 41.1 seconds RetCode: 0 Status: OK