Package: GenomicSuperSignature Version: 1.15.0 Command: /Library/Frameworks/R.framework/Resources/bin/R CMD build --keep-empty-dirs --no-resave-data GenomicSuperSignature StartedAt: 2025-02-18 16:47:43 -0500 (Tue, 18 Feb 2025) EndedAt: 2025-02-18 16:50:02 -0500 (Tue, 18 Feb 2025) EllapsedTime: 139.3 seconds RetCode: 0 Status: OK PackageFile: GenomicSuperSignature_1.15.0.tar.gz PackageFileSize: 6.355 MiB