Package: GenomicSuperSignature Version: 1.15.0 Command: rm -rf GenomicSuperSignature.buildbin-libdir && mkdir GenomicSuperSignature.buildbin-libdir && /Users/biocbuild/BBS/utils/build-universal.sh GenomicSuperSignature_1.15.0.tar.gz /Library/Frameworks/R.framework/Resources/bin/R GenomicSuperSignature.buildbin-libdir StartedAt: 2025-02-19 22:23:31 -0500 (Wed, 19 Feb 2025) EndedAt: 2025-02-19 22:23:46 -0500 (Wed, 19 Feb 2025) EllapsedTime: 14.3 seconds RetCode: 0 Status: OK PackageFile: GenomicSuperSignature_1.15.0.tgz PackageFileSize: 6.997 MiB