Package: GenomicScores Version: 2.19.1 Command: /home/biocbuild/bbs-3.21-bioc/R/bin/R CMD INSTALL GenomicScores StartedAt: 2025-02-21 16:15:36 -0500 (Fri, 21 Feb 2025) EndedAt: 2025-02-21 16:16:06 -0500 (Fri, 21 Feb 2025) EllapsedTime: 30.0 seconds RetCode: 0 Status: OK