Package: GenomicScores Version: 2.19.1 Command: /Library/Frameworks/R.framework/Resources/bin/R CMD INSTALL GenomicScores StartedAt: 2025-02-21 15:16:10 -0500 (Fri, 21 Feb 2025) EndedAt: 2025-02-21 15:16:50 -0500 (Fri, 21 Feb 2025) EllapsedTime: 40.2 seconds RetCode: 0 Status: OK