Package: GenomicScores Version: 2.19.1 Command: /Library/Frameworks/R.framework/Resources/bin/R CMD build --keep-empty-dirs --no-resave-data GenomicScores StartedAt: 2025-02-21 16:49:35 -0500 (Fri, 21 Feb 2025) EndedAt: 2025-02-21 16:51:57 -0500 (Fri, 21 Feb 2025) EllapsedTime: 141.6 seconds RetCode: 0 Status: OK PackageFile: GenomicScores_2.19.1.tar.gz PackageFileSize: 1.64 MiB