Package: GenomicRanges Version: 1.59.1 Command: E:\biocbuild\bbs-3.21-bioc\R\bin\R.exe CMD INSTALL GenomicRanges StartedAt: 2025-02-17 15:33:30 -0500 (Mon, 17 Feb 2025) EndedAt: 2025-02-17 15:36:48 -0500 (Mon, 17 Feb 2025) EllapsedTime: 198.0 seconds RetCode: 0 Status: OK