Package: GenomicRanges Version: 1.59.1 Command: chmod a+r GenomicRanges -R && E:\biocbuild\bbs-3.21-bioc\R\bin\R.exe CMD build --keep-empty-dirs --no-resave-data GenomicRanges StartedAt: 2025-02-17 18:48:32 -0500 (Mon, 17 Feb 2025) EndedAt: 2025-02-17 18:54:21 -0500 (Mon, 17 Feb 2025) EllapsedTime: 349.0 seconds RetCode: 0 Status: OK PackageFile: GenomicRanges_1.59.1.tar.gz PackageFileSize: 1.08 MiB