Package: GenomicRanges Version: 1.59.1 Command: rm -rf GenomicRanges.buildbin-libdir && mkdir GenomicRanges.buildbin-libdir && E:\biocbuild\bbs-3.21-bioc\R\bin\R.exe CMD INSTALL --build --library=GenomicRanges.buildbin-libdir GenomicRanges_1.59.1.tar.gz StartedAt: 2025-02-18 07:26:00 -0500 (Tue, 18 Feb 2025) EndedAt: 2025-02-18 07:28:40 -0500 (Tue, 18 Feb 2025) EllapsedTime: 159.7 seconds RetCode: 0 Status: OK PackageFile: GenomicRanges_1.59.1.zip PackageFileSize: 2.07 MiB