Package: GenomicRanges Version: 1.59.1 Command: /home/biocbuild/bbs-3.21-bioc/R/bin/R CMD build --keep-empty-dirs --no-resave-data GenomicRanges StartedAt: 2025-02-19 17:23:19 -0500 (Wed, 19 Feb 2025) EndedAt: 2025-02-19 17:26:09 -0500 (Wed, 19 Feb 2025) EllapsedTime: 170.2 seconds RetCode: 0 Status: OK PackageFile: GenomicRanges_1.59.1.tar.gz PackageFileSize: 1.309 MiB