Package: GenomicRanges Version: 1.59.1 Command: /Library/Frameworks/R.framework/Resources/bin/R CMD check --install=check:GenomicRanges.install-out.txt --library=/Library/Frameworks/R.framework/Resources/library --no-vignettes --timings GenomicRanges_1.59.1.tar.gz StartedAt: 2025-02-17 20:35:59 -0500 (Mon, 17 Feb 2025) EndedAt: 2025-02-17 20:40:23 -0500 (Mon, 17 Feb 2025) EllapsedTime: 264.7 seconds RetCode: 0 Status: OK CheckDir: GenomicRanges.Rcheck Warnings: 0