Package: GenomicRanges Version: 1.59.1 Command: /Library/Frameworks/R.framework/Resources/bin/R CMD build --keep-empty-dirs --no-resave-data GenomicRanges StartedAt: 2025-02-17 16:47:50 -0500 (Mon, 17 Feb 2025) EndedAt: 2025-02-17 16:51:18 -0500 (Mon, 17 Feb 2025) EllapsedTime: 208.1 seconds RetCode: 0 Status: OK PackageFile: GenomicRanges_1.59.1.tar.gz PackageFileSize: 1.303 MiB