Package: GenomicRanges Version: 1.59.1 Command: /Library/Frameworks/R.framework/Resources/bin/R CMD INSTALL GenomicRanges StartedAt: 2025-02-17 15:03:56 -0500 (Mon, 17 Feb 2025) EndedAt: 2025-02-17 15:04:04 -0500 (Mon, 17 Feb 2025) EllapsedTime: 7.8 seconds RetCode: 0 Status: OK