Package: GenomicPlot Version: 1.5.3 Command: rm -rf GenomicPlot.buildbin-libdir && mkdir GenomicPlot.buildbin-libdir && /Users/biocbuild/BBS/utils/build-universal.sh GenomicPlot_1.5.3.tar.gz /Library/Frameworks/R.framework/Resources/bin/R GenomicPlot.buildbin-libdir StartedAt: 2025-02-20 00:33:53 -0500 (Thu, 20 Feb 2025) EndedAt: 2025-02-20 00:35:05 -0500 (Thu, 20 Feb 2025) EllapsedTime: 72.7 seconds RetCode: 0 Status: OK PackageFile: GenomicPlot_1.5.3.tgz PackageFileSize: 4.236 MiB