Package: GenomicInteractions Version: 1.41.0 Command: /home/biocbuild/R/R/bin/R CMD INSTALL GenomicInteractions StartedAt: 2025-01-29 20:09:59 -0000 (Wed, 29 Jan 2025) EndedAt: 2025-01-29 20:12:00 -0000 (Wed, 29 Jan 2025) EllapsedTime: 121.0 seconds RetCode: 0 Status: OK