Package: GenomicInteractions Version: 1.41.0 Command: rm -rf GenomicInteractions.buildbin-libdir && mkdir GenomicInteractions.buildbin-libdir && /Users/biocbuild/BBS/utils/build-universal.sh GenomicInteractions_1.41.0.tar.gz /Library/Frameworks/R.framework/Resources/bin/R GenomicInteractions.buildbin-libdir StartedAt: 2025-02-19 22:23:20 -0500 (Wed, 19 Feb 2025) EndedAt: 2025-02-19 22:24:00 -0500 (Wed, 19 Feb 2025) EllapsedTime: 39.8 seconds RetCode: 0 Status: OK PackageFile: GenomicInteractions_1.41.0.tgz PackageFileSize: 4.008 MiB