Package: GenomicInteractionNodes Version: 1.11.3 Command: /Library/Frameworks/R.framework/Resources/bin/R CMD build --keep-empty-dirs --no-resave-data GenomicInteractionNodes StartedAt: 2025-02-20 16:26:19 -0500 (Thu, 20 Feb 2025) EndedAt: 2025-02-20 16:27:04 -0500 (Thu, 20 Feb 2025) EllapsedTime: 44.5 seconds RetCode: 0 Status: OK PackageFile: GenomicInteractionNodes_1.11.3.tar.gz PackageFileSize: 248.4 KiB