Package: GenomicFiles Version: 1.43.0 Command: E:\biocbuild\bbs-3.21-bioc\R\bin\R.exe CMD INSTALL GenomicFiles StartedAt: 2025-02-19 16:06:19 -0500 (Wed, 19 Feb 2025) EndedAt: 2025-02-19 16:07:20 -0500 (Wed, 19 Feb 2025) EllapsedTime: 61.4 seconds RetCode: 0 Status: OK