Package: GenomicFiles Version: 1.43.0 Command: E:\biocbuild\bbs-3.21-bioc\R\bin\R.exe CMD check --no-multiarch --install=check:GenomicFiles.install-out.txt --library=E:\biocbuild\bbs-3.21-bioc\R\library --no-vignettes --timings GenomicFiles_1.43.0.tar.gz StartedAt: 2025-02-20 01:28:07 -0500 (Thu, 20 Feb 2025) EndedAt: 2025-02-20 01:42:03 -0500 (Thu, 20 Feb 2025) EllapsedTime: 835.7 seconds RetCode: 0 Status: WARNINGS CheckDir: GenomicFiles.Rcheck Warnings: 1