Package: GenomicFiles Version: 1.43.0 Command: /Library/Frameworks/R.framework/Resources/bin/R CMD INSTALL GenomicFiles StartedAt: 2025-02-20 15:20:27 -0500 (Thu, 20 Feb 2025) EndedAt: 2025-02-20 15:21:22 -0500 (Thu, 20 Feb 2025) EllapsedTime: 54.9 seconds RetCode: 0 Status: OK