Package: GenomicDistributions Version: 1.15.0 Command: /home/biocbuild/bbs-3.21-bioc/R/bin/R CMD build --keep-empty-dirs --no-resave-data GenomicDistributions StartedAt: 2025-02-19 17:22:18 -0500 (Wed, 19 Feb 2025) EndedAt: 2025-02-19 17:23:19 -0500 (Wed, 19 Feb 2025) EllapsedTime: 61.1 seconds RetCode: 0 Status: OK PackageFile: GenomicDistributions_1.15.0.tar.gz PackageFileSize: 6.25 MiB