Package: GenomicDataCommons Version: 1.31.1 Command: chmod a+r GenomicDataCommons -R && E:\biocbuild\bbs-3.21-bioc\R\bin\R.exe CMD build --keep-empty-dirs --no-resave-data GenomicDataCommons StartedAt: 2025-02-20 18:56:48 -0500 (Thu, 20 Feb 2025) EndedAt: 2025-02-20 18:59:04 -0500 (Thu, 20 Feb 2025) EllapsedTime: 136.8 seconds RetCode: 0 Status: OK PackageFile: GenomicDataCommons_1.31.1.tar.gz PackageFileSize: 2.275 MiB