Package: GenomicDataCommons Version: 1.31.1 Command: /home/biocbuild/bbs-3.21-bioc/R/bin/R CMD build --keep-empty-dirs --no-resave-data GenomicDataCommons StartedAt: 2025-02-20 17:33:45 -0500 (Thu, 20 Feb 2025) EndedAt: 2025-02-20 17:35:00 -0500 (Thu, 20 Feb 2025) EllapsedTime: 75.1 seconds RetCode: 0 Status: OK PackageFile: GenomicDataCommons_1.31.1.tar.gz PackageFileSize: 2.641 MiB