Package: GenomicDataCommons Version: 1.31.1 Command: /Library/Frameworks/R.framework/Resources/bin/R CMD INSTALL GenomicDataCommons StartedAt: 2025-02-20 15:08:52 -0500 (Thu, 20 Feb 2025) EndedAt: 2025-02-20 15:09:09 -0500 (Thu, 20 Feb 2025) EllapsedTime: 16.5 seconds RetCode: 0 Status: OK