Package: GenomicDataCommons Version: 1.31.1 Command: /Library/Frameworks/R.framework/Resources/bin/R CMD check --install=check:GenomicDataCommons.install-out.txt --library=/Library/Frameworks/R.framework/Resources/library --no-vignettes --timings GenomicDataCommons_1.31.1.tar.gz StartedAt: 2025-02-20 20:38:52 -0500 (Thu, 20 Feb 2025) EndedAt: 2025-02-20 20:41:03 -0500 (Thu, 20 Feb 2025) EllapsedTime: 131.1 seconds RetCode: 0 Status: OK CheckDir: GenomicDataCommons.Rcheck Warnings: 0