Package: GenomicDataCommons Version: 1.31.1 Command: /Library/Frameworks/R.framework/Resources/bin/R CMD INSTALL GenomicDataCommons StartedAt: 2025-02-20 15:04:17 -0500 (Thu, 20 Feb 2025) EndedAt: 2025-02-20 15:04:23 -0500 (Thu, 20 Feb 2025) EllapsedTime: 5.6 seconds RetCode: 0 Status: OK