Package: GenomicAlignments Version: 1.43.0 Command: chmod a+r GenomicAlignments -R && E:\biocbuild\bbs-3.21-bioc\R\bin\R.exe CMD build --keep-empty-dirs --no-resave-data GenomicAlignments StartedAt: 2025-02-18 18:51:35 -0500 (Tue, 18 Feb 2025) EndedAt: 2025-02-18 18:54:20 -0500 (Tue, 18 Feb 2025) EllapsedTime: 164.9 seconds RetCode: 0 Status: OK PackageFile: GenomicAlignments_1.43.0.tar.gz PackageFileSize: 2.166 MiB