Package: GenomicAlignments Version: 1.43.0 Command: /Library/Frameworks/R.framework/Resources/bin/R CMD check --install=check:GenomicAlignments.install-out.txt --library=/Library/Frameworks/R.framework/Resources/library --no-vignettes --timings GenomicAlignments_1.43.0.tar.gz StartedAt: 2025-02-18 19:26:51 -0500 (Tue, 18 Feb 2025) EndedAt: 2025-02-18 19:28:39 -0500 (Tue, 18 Feb 2025) EllapsedTime: 108.2 seconds RetCode: 0 Status: OK CheckDir: GenomicAlignments.Rcheck Warnings: 0