Package: GenomeInfoDb Version: 1.43.4 Command: /Library/Frameworks/R.framework/Resources/bin/R CMD INSTALL GenomeInfoDb StartedAt: 2025-02-18 15:08:15 -0500 (Tue, 18 Feb 2025) EndedAt: 2025-02-18 15:08:34 -0500 (Tue, 18 Feb 2025) EllapsedTime: 19.4 seconds RetCode: 0 Status: OK